BEGIN:VCALENDAR
VERSION:2.0
PRODID:-//South Dakota Youth Hunting Adventures - ECPv6.15.17.1//NONSGML v1.0//EN
CALSCALE:GREGORIAN
METHOD:PUBLISH
X-ORIGINAL-URL:https://sdyouthhunt.com
X-WR-CALDESC:Events for South Dakota Youth Hunting Adventures
REFRESH-INTERVAL;VALUE=DURATION:PT1H
X-Robots-Tag:noindex
X-PUBLISHED-TTL:PT1H
BEGIN:VTIMEZONE
TZID:UTC
BEGIN:STANDARD
TZOFFSETFROM:+0000
TZOFFSETTO:+0000
TZNAME:UTC
DTSTART:20200101T000000
END:STANDARD
END:VTIMEZONE
BEGIN:VEVENT
DTSTART;VALUE=DATE:20210723
DTEND;VALUE=DATE:20210724
DTSTAMP:20260421T183040
CREATED:20210123T025641Z
LAST-MODIFIED:20210217T044510Z
UID:1577-1626998400-1627084799@sdyouthhunt.com
SUMMARY:Season Kickoff Cookout
DESCRIPTION:Season Kickoff Cookout
URL:https://sdyouthhunt.com/event/season-kickoff-cookout/
CATEGORIES:Local Events
END:VEVENT
BEGIN:VEVENT
DTSTART;VALUE=DATE:20210719
DTEND;VALUE=DATE:20210721
DTSTAMP:20260421T183040
CREATED:20210611T040442Z
LAST-MODIFIED:20210617T033715Z
UID:1659-1626652800-1626825599@sdyouthhunt.com
SUMMARY:Walleye Fishing Trip
DESCRIPTION:Walleye Fishing Trip \nThis will be an overnight guided trip to Chamberlain to fish for walleye on the Missouri River. There is a capacity limit of 15 kids for this event so please do not wait to RSVP. Food\, lodging\, fishing equipment\, and transportation provided. \nRSVP by July 12\, 2021 to Christian Hagen.\nO: 605.343.1488\nC: 605.631.9270\nchristianh@bigmentors.com
URL:https://sdyouthhunt.com/event/walleye-fishing-trip/
END:VEVENT
BEGIN:VEVENT
DTSTART;VALUE=DATE:20210612
DTEND;VALUE=DATE:20210613
DTSTAMP:20260421T183040
CREATED:20210123T025607Z
LAST-MODIFIED:20210217T044535Z
UID:1575-1623456000-1623542399@sdyouthhunt.com
SUMMARY:Catfishing at Two Rivers Ranch
DESCRIPTION:Catfishing at Two Rivers Ranch
URL:https://sdyouthhunt.com/event/catfishing-at-two-rivers-ranch/
CATEGORIES:Local Events
END:VEVENT
BEGIN:VEVENT
DTSTART;TZID=UTC:20210424T090000
DTEND;TZID=UTC:20210424T120000
DTSTAMP:20260421T183040
CREATED:20210415T223437Z
LAST-MODIFIED:20210415T223437Z
UID:1644-1619254800-1619265600@sdyouthhunt.com
SUMMARY:SDYHA Trap Shoot
DESCRIPTION:Rapid City Trap Club is hosting a fun and education shoot for South Dakota Youth Hunting Adventure mentor\, mentees and families. \nApril 24th\, 2021 from 9:00am-12:00pm \nGuns\, ammo\, targets and lunch all being provided. \nSafety meeting starts at 9am. \nLunch is provided. \nPlease RSVP to Carol Jonasen by April 18th carolj@bigmentors.com \nRapid City Trap Club\n9210 SD-79\nRapid City\, SD 57702
URL:https://sdyouthhunt.com/event/sdyha-trap-shoot/
END:VEVENT
BEGIN:VEVENT
DTSTART;VALUE=DATE:20210212
DTEND;VALUE=DATE:20210215
DTSTAMP:20260421T183040
CREATED:20210123T025528Z
LAST-MODIFIED:20210123T025528Z
UID:1573-1613088000-1613347199@sdyouthhunt.com
SUMMARY:Black Hills Sports Show
DESCRIPTION:Black Hills Sports Show
URL:https://sdyouthhunt.com/event/black-hills-sports-show/
CATEGORIES:Local Events
ATTACH;FMTTYPE=image/jpeg:https://sdyouthhunt.com/wp-content/uploads/2020/12/breaks1.jpg
END:VEVENT
END:VCALENDAR